<VRTDataset rasterXSize="90024" rasterYSize="135024"> <SRS dataAxisToSRSAxisMapping="1,2">PROJCS["NAD83(2011) / UTM zone 18N",GEOGCS["NAD83(2011)",DATUM["NAD83_National_Spatial_Reference_System_2011",SPHEROID["GRS 1980",6378137,298.257222101,AUTHORITY["EPSG","7019"]],AUTHORITY["EPSG","1116"]],PRIMEM["Greenwich",0,AUTHORITY["EPSG","8901"]],UNIT["degree",0.0174532925199433,AUTHORITY["EPSG","9122"]],AUTHORITY["EPSG","6318"]],PROJECTION["Transverse_Mercator"],PARAMETER["latitude_of_origin",0],PARAMETER["central_meridian",-75],PARAMETER["scale_factor",0.9996],PARAMETER["false_easting",500000],PARAMETER["false_northing",0],UNIT["metre",1,AUTHORITY["EPSG","9001"]],AXIS["Easting",EAST],AXIS["Northing",NORTH],AUTHORITY["EPSG","6347"]]</SRS> <GeoTransform> 2.0999400000000000e+05, 5.0000000000000000e-01, 0.0000000000000000e+00, 3.8125060000000000e+06, 0.0000000000000000e+00, -5.0000000000000000e-01</GeoTransform> <VRTRasterBand dataType="Byte" band="1"> <ColorInterp>Red</ColorInterp> <SimpleSource> <SourceFilename relativeToVRT="1">./210000e3755000n.tif</SourceFilename> <SourceBand>1</SourceBand> <SourceProperties RasterXSize="5024" RasterYSize="5024" DataType="Byte" BlockXSize="512" BlockYSize="512" /> <SrcRect xOff="0" yOff="0" xSize="5024" ySize="5024" /> <DstRect xOff="0" yOff="115000" xSize="5024" ySize="5024" /> </SimpleSource> <SimpleSource> <SourceFilename relativeToVRT="1">./210000e3757500n.tif</SourceFilename> <SourceBand>1</SourceBand> <SourceProperties RasterXSize="5024" RasterYSize="5024" DataType="Byte" BlockXSize="512" BlockYSize="512" /> <SrcRect xOff="0" yOff="0" xSize="5024" ySize="5024" /> <DstRect xOff="0" yOff="110000" xSize="5024" ySize="5024" /> </SimpleSource> <SimpleSource> <SourceFilename relativeToVRT="1">./210000e3760000n.tif</SourceFilename> <SourceBand>1</SourceBand> <SourceProperties RasterXSize="5024" RasterYSize="5024" DataType="Byte" BlockXSize="512" BlockYSize="512" /> <SrcRect xOff="0" yOff="0" xSize="5024" ySize="5024" /> <DstRect xOff="0" yOff="105000" xSize="5024" ySize="5024" /> </SimpleSource> <SimpleSource> <SourceFilename relativeToVRT="1">./210000e3762500n.tif</SourceFilename> <SourceBand>1</SourceBand> <SourceProperties RasterXSize="5024" RasterYSize="5024" DataType="Byte" BlockXSize="512" BlockYSize="512" /> <SrcRect xOff="0" yOff="0" xSize="5024" ySize="5024" /> <DstRect xOff="0" yOff="100000" xSize="5024" ySize="5024" /> </SimpleSource> <SimpleSource> <SourceFilename relativeToVRT="1">./212500e3755000n.tif</SourceFilename> <SourceBand>1</SourceBand> <SourceProperties RasterXSize="5024" RasterYSize="5024" DataType="Byte" BlockXSize="512" BlockYSize="512" /> <SrcRect xOff="0" yOff="0" xSize="5024" ySize="5024" /> <DstRect xOff="5000" yOff="115000" xSize="5024" ySize="5024" /> </SimpleSource> <SimpleSource> <SourceFilename relativeToVRT="1">./212500e3757500n.tif</SourceFilename> <SourceBand>1</SourceBand> <SourceProperties RasterXSize="5024" RasterYSize="5024" DataType="Byte" BlockXSize="512" BlockYSize="512" /> <SrcRect xOff="0" yOff="0" xSize="5024" ySize="5024" /> <DstRect xOff="5000" yOff="110000" xSize="5024" ySize="5024" /> </SimpleSource> <SimpleSource> <SourceFilename relativeToVRT="1">./212500e3760000n.tif</SourceFilename> <SourceBand>1</SourceBand> <SourceProperties RasterXSize="5024" RasterYSize="5024" DataType="Byte" BlockXSize="512" BlockYSize="512" /> <SrcRect xOff="0" yOff="0" xSize="5024" ySize="5024" /> <DstRect xOff="5000" yOff="105000" xSize="5024" ySize="5024" /> </SimpleSource> <SimpleSource> <SourceFilename relativeToVRT="1">./212500e3762500n.tif</SourceFilename> <SourceBand>1</SourceBand> <SourceProperties RasterXSize="5024" RasterYSize="5024" DataType="Byte" BlockXSize="512" BlockYSize="512" /> <SrcRect xOff="0" yOff="0" xSize="5024" ySize="5024" /> <DstRect xOff="5000" yOff="100000" xSize="5024" ySize="5024" /> </SimpleSource> <SimpleSource> <SourceFilename relativeToVRT="1">./215000e3755000n.tif</SourceFilename> <SourceBand>1</SourceBand> <SourceProperties RasterXSize="5024" RasterYSize="5024" DataType="Byte" BlockXSize="512" BlockYSize="512" /> <SrcRect xOff="0" yOff="0" xSize="5024" ySize="5024" /> <DstRect xOff="10000" yOff="115000" xSize="5024" ySize="5024" /> </SimpleSource> <SimpleSource> <SourceFilename relativeToVRT="1">./215000e3757500n.tif</SourceFilename> <SourceBand>1</SourceBand> <SourceProperties RasterXSize="5024" RasterYSize="5024" DataType="Byte" BlockXSize="512" BlockYSize="512" /> <SrcRect xOff="0" yOff="0" xSize="5024" ySize="5024" /> <DstRect xOff="10000" yOff="110000" xSize="5024" ySize="5024" /> </SimpleSource> <SimpleSource> <SourceFilename relativeToVRT="1">./215000e3760000n.tif</SourceFilename> <SourceBand>1</SourceBand> <SourceProperties RasterXSize="5024" RasterYSize="5024" DataType="Byte" BlockXSize="512" BlockYSize="512" /> <SrcRect xOff="0" yOff="0" xSize="5024" ySize="5024" /> <DstRect xOff="10000" yOff="105000" xSize="5024" ySize="5024" /> </SimpleSource> <SimpleSource> <SourceFilename relativeToVRT="1">./215000e3762500n.tif</SourceFilename> <SourceBand>1</SourceBand> <SourceProperties RasterXSize="5024" RasterYSize="5024" DataType="Byte" BlockXSize="512" BlockYSize="512" /> <SrcRect xOff="0" yOff="0" xSize="5024" ySize="5024" /> <DstRect xOff="10000" yOff="100000" xSize="5024" ySize="5024" /> </SimpleSource> <SimpleSource> <SourceFilename relativeToVRT="1">./217500e3750000n.tif</SourceFilename> <SourceBand>1</SourceBand> <SourceProperties RasterXSize="5024" RasterYSize="5024" DataType="Byte" BlockXSize="512" BlockYSize="512" /> <SrcRect xOff="0" yOff="0" xSize="5024" ySize="5024" /> <DstRect xOff="15000" yOff="125000" xSize="5024" ySize="5024" /> </SimpleSource> <SimpleSource> <SourceFilename relativeToVRT="1">./217500e3752500n.tif</SourceFilename> <SourceBand>1</SourceBand> <SourceProperties RasterXSize="5024" RasterYSize="5024" DataType="Byte" BlockXSize="512" BlockYSize="512" /> <SrcRect xOff="0" yOff="0" xSize="5024" ySize="5024" /> <DstRect xOff="15000" yOff="120000" xSize="5024" ySize="5024" /> </SimpleSource> <SimpleSource> <SourceFilename relativeToVRT="1">./217500e3755000n.tif</SourceFilename> <SourceBand>1</SourceBand> <SourceProperties RasterXSize="5024" RasterYSize="5024" DataType="Byte" BlockXSize="512" BlockYSize="512" /> <SrcRect xOff="0" yOff="0" xSize="5024" ySize="5024" /> <DstRect xOff="15000" yOff="115000" xSize="5024" ySize="5024" /> </SimpleSource> <SimpleSource> <SourceFilename relativeToVRT="1">./217500e3757500n.tif</SourceFilename> <SourceBand>1</SourceBand> <SourceProperties RasterXSize="5024" RasterYSize="5024" DataType="Byte" BlockXSize="512" BlockYSize="512" /> <SrcRect xOff="0" yOff="0" xSize="5024" ySize="5024" /> <DstRect xOff="15000" yOff="110000" xSize="5024" ySize="5024" /> </SimpleSource> <SimpleSource> <SourceFilename relativeToVRT="1">./217500e3760000n.tif</SourceFilename> <SourceBand>1</SourceBand> <SourceProperties RasterXSize="5024" RasterYSize="5024" DataType="Byte" BlockXSize="512" BlockYSize="512" /> <SrcRect xOff="0" yOff="0" xSize="5024" ySize="5024" /> <DstRect xOff="15000" yOff="105000" xSize="5024" ySize="5024" /> </SimpleSource> <SimpleSource> <SourceFilename relativeToVRT="1">./217500e3762500n.tif</SourceFilename> <SourceBand>1</SourceBand> <SourceProperties RasterXSize="5024" RasterYSize="5024" DataType="Byte" BlockXSize="512" BlockYSize="512" /> <SrcRect xOff="0" yOff="0" xSize="5024" ySize="5024" /> <DstRect xOff="15000" yOff="100000" xSize="5024" ySize="5024" /> </SimpleSource> <SimpleSource> <SourceFilename relativeToVRT="1">./220000e3750000n.tif</SourceFilename> <SourceBand>1</SourceBand> <SourceProperties RasterXSize="5024" RasterYSize="5024" DataType="Byte" BlockXSize="512" BlockYSize="512" /> <SrcRect xOff="0" yOff="0" xSize="5024" ySize="5024" /> <DstRect xOff="20000" yOff="125000" xSize="5024" ySize="5024" /> </SimpleSource> <SimpleSource> <SourceFilename relativeToVRT="1">./220000e3752500n.tif</SourceFilename> <SourceBand>1</SourceBand> <SourceProperties RasterXSize="5024" RasterYSize="5024" DataType="Byte" BlockXSize="512" BlockYSize="512" /> <SrcRect xOff="0" yOff="0" xSize="5024" ySize="5024" /> <DstRect xOff="20000" yOff="120000" xSize="5024" ySize="5024" /> </SimpleSource> <SimpleSource> <SourceFilename relativeToVRT="1">./220000e3755000n.tif</SourceFilename> <SourceBand>1</SourceBand> <SourceProperties RasterXSize="5024" RasterYSize="5024" DataType="Byte" BlockXSize="512" BlockYSize="512" /> <SrcRect xOff="0" yOff="0" xSize="5024" ySize="5024" /> <DstRect xOff="20000" yOff="115000" xSize="5024" ySize="5024" /> </SimpleSource> <SimpleSource> <SourceFilename relativeToVRT="1">./220000e3757500n.tif</SourceFilename> <SourceBand>1</SourceBand> <SourceProperties RasterXSize="5024" RasterYSize="5024" DataType="Byte" BlockXSize="512" BlockYSize="512" /> <SrcRect xOff="0" yOff="0" xSize="5024" ySize="5024" /> <DstRect xOff="20000" yOff="110000" xSize="5024" ySize="5024" /> </SimpleSource> <SimpleSource> <SourceFilename relativeToVRT="1">./220000e3760000n.tif</SourceFilename> <SourceBand>1</SourceBand> <SourceProperties RasterXSize="5024" RasterYSize="5024" DataType="Byte" BlockXSize="512" BlockYSize="512" /> <SrcRect xOff="0" yOff="0" xSize="5024" ySize="5024" /> <DstRect xOff="20000" yOff="105000" xSize="5024" ySize="5024" /> </SimpleSource> <SimpleSource> <SourceFilename relativeToVRT="1">./220000e3762500n.tif</SourceFilename> <SourceBand>1</SourceBand> <SourceProperties RasterXSize="5024" RasterYSize="5024" DataType="Byte" BlockXSize="512" BlockYSize="512" /> <SrcRect xOff="0" yOff="0" xSize="5024" ySize="5024" /> <DstRect xOff="20000" yOff="100000" xSize="5024" ySize="5024" /> </SimpleSource> <SimpleSource> <SourceFilename relativeToVRT="1">./220000e3765000n.tif</SourceFilename> <SourceBand>1</SourceBand> <SourceProperties RasterXSize="5024" RasterYSize="5024" DataType="Byte" BlockXSize="512" BlockYSize="512" /> <SrcRect xOff="0" yOff="0" xSize="5024" ySize="5024" /> <DstRect xOff="20000" yOff="95000" xSize="5024" ySize="5024" /> </SimpleSource> <SimpleSource> <SourceFilename relativeToVRT="1">./220000e3767500n.tif</SourceFilename> <SourceBand>1</SourceBand> <SourceProperties RasterXSize="5024" RasterYSize="5024" DataType="Byte" BlockXSize="512" BlockYSize="512" /> <SrcRect xOff="0" yOff="0" xSize="5024" ySize="5024" /> <DstRect xOff="20000" yOff="90000" xSize="5024" ySize="5024" /> </SimpleSource> <SimpleSource> <SourceFilename relativeToVRT="1">./220000e3785000n.tif</SourceFilename> <SourceBand>1</SourceBand> <SourceProperties RasterXSize="5024" RasterYSize="5024" DataType="Byte" BlockXSize="512" BlockYSize="512" /> <SrcRect xOff="0" yOff="0" xSize="5024" ySize="5024" /> <DstRect xOff="20000" yOff="55000" xSize="5024" ySize="5024" /> </SimpleSource> <SimpleSource> <SourceFilename relativeToVRT="1">./220000e3787500n.tif</SourceFilename> <SourceBand>1</SourceBand> <SourceProperties RasterXSize="5024" RasterYSize="5024" DataType="Byte" BlockXSize="512" BlockYSize="512" /> <SrcRect xOff="0" yOff="0" xSize="5024" ySize="5024" /> <DstRect xOff="20000" yOff="50000" xSize="5024" ySize="5024" /> </SimpleSource> <SimpleSource> <SourceFilename relativeToVRT="1">./220000e3792500n.tif</SourceFilename> <SourceBand>1</SourceBand> <SourceProperties RasterXSize="5024" RasterYSize="5024" DataType="Byte" BlockXSize="512" BlockYSize="512" /> <SrcRect xOff="0" yOff="0" xSize="5024" ySize="5024" /> <DstRect xOff="20000" yOff="40000" xSize="5024" ySize="5024" /> </SimpleSource> <SimpleSource> <SourceFilename relativeToVRT="1">./220000e3795000n.tif</SourceFilename> <SourceBand>1</SourceBand> <SourceProperties RasterXSize="5024" RasterYSize="5024" DataType="Byte" BlockXSize="512" BlockYSize="512" /> <SrcRect xOff="0" yOff="0" xSize="5024" ySize="5024" /> <DstRect xOff="20000" yOff="35000" xSize="5024" ySize="5024" /> </SimpleSource> <SimpleSource> <SourceFilename relativeToVRT="1">./220000e3800000n.tif</SourceFilename> <SourceBand>1</SourceBand> <SourceProperties RasterXSize="5024" RasterYSize="5024" DataType="Byte" BlockXSize="512" BlockYSize="512" /> <SrcRect xOff="0" yOff="0" xSize="5024" ySize="5024" /> <DstRect xOff="20000" yOff="25000" xSize="5024" ySize="5024" /> </SimpleSource> <SimpleSource> <SourceFilename relativeToVRT="1">./220000e3807500n.tif</SourceFilename> <SourceBand>1</SourceBand> <SourceProperties RasterXSize="5024" RasterYSize="5024" DataType="Byte" BlockXSize="512" BlockYSize="512" /> <SrcRect xOff="0" yOff="0" xSize="5024" ySize="5024" /> <DstRect xOff="20000" yOff="10000" xSize="5024" ySize="5024" /> </SimpleSource> <SimpleSource> <SourceFilename relativeToVRT="1">./220000e3810000n.tif</SourceFilename> <SourceBand>1</SourceBand> <SourceProperties RasterXSize="5024" RasterYSize="5024" DataType="Byte" BlockXSize="512" BlockYSize="512" /> <SrcRect xOff="0" yOff="0" xSize="5024" ySize="5024" /> <DstRect xOff="20000" yOff="5000" xSize="5024" ySize="5024" /> </SimpleSource> <SimpleSource> <SourceFilename relativeToVRT="1">./222500e3747500n.tif</SourceFilename> <SourceBand>1</SourceBand> <SourceProperties RasterXSize="5024" RasterYSize="5024" DataType="Byte" BlockXSize="512" BlockYSize="512" /> <SrcRect xOff="0" yOff="0" xSize="5024" ySize="5024" /> <DstRect xOff="25000" yOff="130000" xSize="5024" ySize="5024" /> </SimpleSource> <SimpleSource> <SourceFilename relativeToVRT="1">./222500e3750000n.tif</SourceFilename> <SourceBand>1</SourceBand> <SourceProperties RasterXSize="5024" RasterYSize="5024" DataType="Byte" BlockXSize="512" BlockYSize="512" /> <SrcRect xOff="0" yOff="0" xSize="5024" ySize="5024" /> <DstRect xOff="25000" yOff="125000" xSize="5024" ySize="5024" /> </SimpleSource> <SimpleSource> <SourceFilename relativeToVRT="1">./222500e3752500n.tif</SourceFilename> <SourceBand>1</SourceBand> <SourceProperties RasterXSize="5024" RasterYSize="5024" DataType="Byte" BlockXSize="512" BlockYSize="512" /> <SrcRect xOff="0" yOff="0" xSize="5024" ySize="5024" /> <DstRect xOff="25000" yOff="120000" xSize="5024" ySize="5024" /> </SimpleSource> <SimpleSource> <SourceFilename relativeToVRT="1">./222500e3755000n.tif</SourceFilename> <SourceBand>1</SourceBand> <SourceProperties RasterXSize="5024" RasterYSize="5024" DataType="Byte" BlockXSize="512" BlockYSize="512" /> <SrcRect xOff="0" yOff="0" xSize="5024" ySize="5024" /> <DstRect xOff="25000" yOff="115000" xSize="5024" ySize="5024" /> </SimpleSource> <SimpleSource> <SourceFilename relativeToVRT="1">./222500e3757500n.tif</SourceFilename> <SourceBand>1</SourceBand> <SourceProperties RasterXSize="5024" RasterYSize="5024" DataType="Byte" BlockXSize="512" BlockYSize="512" /> <SrcRect xOff="0" yOff="0" xSize="5024" ySize="5024" /> <DstRect xOff="25000" yOff="110000" xSize="5024" ySize="5024" /> </SimpleSource> <SimpleSource> <SourceFilename relativeToVRT="1">./222500e3760000n.tif</SourceFilename> <SourceBand>1</SourceBand> <SourceProperties RasterXSize="5024" RasterYSize="5024" DataType="Byte" BlockXSize="512" BlockYSize="512" /> <SrcRect xOff="0" yOff="0" xSize="5024" ySize="5024" /> <DstRect xOff="25000" yOff="105000" xSize="5024" ySize="5024" /> </SimpleSource> <SimpleSource> <SourceFilename relativeToVRT="1">./222500e3762500n.tif</SourceFilename> <SourceBand>1</SourceBand> <SourceProperties RasterXSize="5024" RasterYSize="5024" DataType="Byte" BlockXSize="512" BlockYSize="512" /> <SrcRect xOff="0" yOff="0" xSize="5024" ySize="5024" /> <DstRect xOff="25000" yOff="100000" xSize="5024" ySize="5024" /> </SimpleSource> <SimpleSource> <SourceFilename relativeToVRT="1">./222500e3765000n.tif</SourceFilename> <SourceBand>1</SourceBand> <SourceProperties RasterXSize="5024" RasterYSize="5024" DataType="Byte" BlockXSize="512" BlockYSize="512" /> <SrcRect xOff="0" yOff="0" xSize="5024" ySize="5024" /> <DstRect xOff="25000" yOff="95000" xSize="5024" ySize="5024" /> </SimpleSource> <SimpleSource> <SourceFilename relativeToVRT="1">./222500e3767500n.tif</SourceFilename> <SourceBand>1</SourceBand> <SourceProperties RasterXSize="5024" RasterYSize="5024" DataType="Byte" BlockXSize="512" BlockYSize="512" /> <SrcRect xOff="0" yOff="0" xSize="5024" ySize="5024" /> <DstRect xOff="25000" yOff="90000" xSize="5024" ySize="5024" /> </SimpleSource> <SimpleSource> <SourceFilename relativeToVRT="1">./222500e3770000n.tif</SourceFilename> <SourceBand>1</SourceBand> <SourceProperties RasterXSize="5024" RasterYSize="5024" DataType="Byte" BlockXSize="512" BlockYSize="512" /> <SrcRect xOff="0" yOff="0" xSize="5024" ySize="5024" /> <DstRect xOff="25000" yOff="85000" xSize="5024" ySize="5024" /> </SimpleSource> <SimpleSource> <SourceFilename relativeToVRT="1">./222500e3772500n.tif</SourceFilename> <SourceBand>1</SourceBand> <SourceProperties RasterXSize="5024" RasterYSize="5024" DataType="Byte" BlockXSize="512" BlockYSize="512" /> <SrcRect xOff="0" yOff="0" xSize="5024" ySize="5024" /> <DstRect xOff="25000" yOff="80000" xSize="5024" ySize="5024" /> </SimpleSource> <SimpleSource> <SourceFilename relativeToVRT="1">./222500e3775000n.tif</SourceFilename> <SourceBand>1</SourceBand> <SourceProperties RasterXSize="5024" RasterYSize="5024" DataType="Byte" BlockXSize="512" BlockYSize="512" /> <SrcRect xOff="0" yOff="0" xSize="5024" ySize="5024" /> <DstRect xOff="25000" yOff="75000" xSize="5024" ySize="5024" /> </SimpleSource> <SimpleSource> <SourceFilename relativeToVRT="1">./222500e3777500n.tif</SourceFilename> <SourceBand>1</SourceBand> <SourceProperties RasterXSize="5024" RasterYSize="5024" DataType="Byte" BlockXSize="512" BlockYSize="512" /> <SrcRect xOff="0" yOff="0" xSize="5024" ySize="5024" /> <DstRect xOff="25000" yOff="70000" xSize="5024" ySize="5024" /> </SimpleSource> <SimpleSource> <SourceFilename relativeToVRT="1">./222500e3780000n.tif</SourceFilename> <SourceBand>1</SourceBand> <SourceProperties RasterXSize="5024" RasterYSize="5024" DataType="Byte" BlockXSize="512" BlockYSize="512" /> <SrcRect xOff="0" yOff="0" xSize="5024" ySize="5024" /> <DstRect xOff="25000" yOff="65000" xSize="5024" ySize="5024" /> </SimpleSource> <SimpleSource> <SourceFilename relativeToVRT="1">./222500e3782500n.tif</SourceFilename> <SourceBand>1</SourceBand> <SourceProperties RasterXSize="5024" RasterYSize="5024" DataType="Byte" BlockXSize="512" BlockYSize="512" /> <SrcRect xOff="0" yOff="0" xSize="5024" ySize="5024" /> <DstRect xOff="25000" yOff="60000" xSize="5024" ySize="5024" /> </SimpleSource> <SimpleSource> <SourceFilename relativeToVRT="1">./222500e3785000n.tif</SourceFilename> <SourceBand>1</SourceBand> <SourceProperties RasterXSize="5024" RasterYSize="5024" DataType="Byte" BlockXSize="512" BlockYSize="512" /> <SrcRect xOff="0" yOff="0" xSize="5024" ySize="5024" /> <DstRect xOff="25000" yOff="55000" xSize="5024" ySize="5024" /> </SimpleSource> <SimpleSource> <SourceFilename relativeToVRT="1">./222500e3787500n.tif</SourceFilename> <SourceBand>1</SourceBand> <SourceProperties RasterXSize="5024" RasterYSize="5024" DataType="Byte" BlockXSize="512" BlockYSize="512" /> <SrcRect xOff="0" yOff="0" xSize="5024" ySize="5024" /> <DstRect xOff="25000" yOff="50000" xSize="5024" ySize="5024" /> </SimpleSource> <SimpleSource> <SourceFilename relativeToVRT="1">./222500e3790000n.tif</SourceFilename> <SourceBand>1</SourceBand> <SourceProperties RasterXSize="5024" RasterYSize="5024" DataType="Byte" BlockXSize="512" BlockYSize="512" /> <SrcRect xOff="0" yOff="0" xSize="5024" ySize="5024" /> <DstRect xOff="25000" yOff="45000" xSize="5024" ySize="5024" /> </SimpleSource> <SimpleSource> <SourceFilename relativeToVRT="1">./222500e3792500n.tif</SourceFilename> <SourceBand>1</SourceBand> <SourceProperties RasterXSize="5024" RasterYSize="5024" DataType="Byte" BlockXSize="512" BlockYSize="512" /> <SrcRect xOff="0" yOff="0" xSize="5024" ySize="5024" /> <DstRect xOff="25000" yOff="40000" xSize="5024" ySize="5024" /> </SimpleSource> <SimpleSource> <SourceFilename relativeToVRT="1">./222500e3795000n.tif</SourceFilename> <SourceBand>1</SourceBand> <SourceProperties RasterXSize="5024" RasterYSize="5024" DataType="Byte" BlockXSize="512" BlockYSize="512" /> <SrcRect xOff="0" yOff="0" xSize="5024" ySize="5024" /> <DstRect xOff="25000" yOff="35000" xSize="5024" ySize="5024" /> </SimpleSource> <SimpleSource> <SourceFilename relativeToVRT="1">./222500e3797500n.tif</SourceFilename> <SourceBand>1</SourceBand> <SourceProperties RasterXSize="5024" RasterYSize="5024" DataType="Byte" BlockXSize="512" BlockYSize="512" /> <SrcRect xOff="0" yOff="0" xSize="5024" ySize="5024" /> <DstRect xOff="25000" yOff="30000" xSize="5024" ySize="5024" /> </SimpleSource> <SimpleSource> <SourceFilename relativeToVRT="1">./222500e3800000n.tif</SourceFilename> <SourceBand>1</SourceBand> <SourceProperties RasterXSize="5024" RasterYSize="5024" DataType="Byte" BlockXSize="512" BlockYSize="512" /> <SrcRect xOff="0" yOff="0" xSize="5024" ySize="5024" /> <DstRect xOff="25000" yOff="25000" xSize="5024" ySize="5024" /> </SimpleSource> <SimpleSource> <SourceFilename relativeToVRT="1">./222500e3802500n.tif</SourceFilename> <SourceBand>1</SourceBand> <SourceProperties RasterXSize="5024" RasterYSize="5024" DataType="Byte" BlockXSize="512" BlockYSize="512" /> <SrcRect xOff="0" yOff="0" xSize="5024" ySize="5024" /> <DstRect xOff="25000" yOff="20000" xSize="5024" ySize="5024" /> </SimpleSource> <SimpleSource> <SourceFilename relativeToVRT="1">./222500e3805000n.tif</SourceFilename> <SourceBand>1</SourceBand> <SourceProperties RasterXSize="5024" RasterYSize="5024" DataType="Byte" BlockXSize="512" BlockYSize="512" /> <SrcRect xOff="0" yOff="0" xSize="5024" ySize="5024" /> <DstRect xOff="25000" yOff="15000" xSize="5024" ySize="5024" /> </SimpleSource> <SimpleSource> <SourceFilename relativeToVRT="1">./222500e3807500n.tif</SourceFilename> <SourceBand>1</SourceBand> <SourceProperties RasterXSize="5024" RasterYSize="5024" DataType="Byte" BlockXSize="512" BlockYSize="512" /> <SrcRect xOff="0" yOff="0" xSize="5024" ySize="5024" /> <DstRect xOff="25000" yOff="10000" xSize="5024" ySize="5024" /> </SimpleSource> <SimpleSource> <SourceFilename relativeToVRT="1">./222500e3810000n.tif</SourceFilename> <SourceBand>1</SourceBand> <SourceProperties RasterXSize="5024" RasterYSize="5024" DataType="Byte" BlockXSize="512" BlockYSize="512" /> <SrcRect xOff="0" yOff="0" xSize="5024" ySize="5024" /> <DstRect xOff="25000" yOff="5000" xSize="5024" ySize="5024" /> </SimpleSource> <SimpleSource> <SourceFilename relativeToVRT="1">./225000e3747500n.tif</SourceFilename> <SourceBand>1</SourceBand> <SourceProperties RasterXSize="5024" RasterYSize="5024" DataType="Byte" BlockXSize="512" BlockYSize="512" /> <SrcRect xOff="0" yOff="0" xSize="5024" ySize="5024" /> <DstRect xOff="30000" yOff="130000" xSize="5024" ySize="5024" /> </SimpleSource> <SimpleSource> <SourceFilename relativeToVRT="1">./225000e3750000n.tif</SourceFilename> <SourceBand>1</SourceBand> <SourceProperties RasterXSize="5024" RasterYSize="5024" DataType="Byte" BlockXSize="512" BlockYSize="512" /> <SrcRect xOff="0" yOff="0" xSize="5024" ySize="5024" /> <DstRect xOff="30000" yOff="125000" xSize="5024" ySize="5024" /> </SimpleSource> <SimpleSource> <SourceFilename relativeToVRT="1">./225000e3752500n.tif</SourceFilename> <SourceBand>1</SourceBand> <SourceProperties RasterXSize="5024" RasterYSize="5024" DataType="Byte" BlockXSize="512" BlockYSize="512" /> <SrcRect xOff="0" yOff="0" xSize="5024" ySize="5024" /> <DstRect xOff="30000" yOff="120000" xSize="5024" ySize="5024" /> </SimpleSource> <SimpleSource> <SourceFilename relativeToVRT="1">./225000e3755000n.tif</SourceFilename> <SourceBand>1</SourceBand> <SourceProperties RasterXSize="5024" RasterYSize="5024" DataType="Byte" BlockXSize="512" BlockYSize="512" /> <SrcRect xOff="0" yOff="0" xSize="5024" ySize="5024" /> <DstRect xOff="30000" yOff="115000" xSize="5024" ySize="5024" /> </SimpleSource> <SimpleSource> <SourceFilename relativeToVRT="1">./225000e3757500n.tif</SourceFilename> <SourceBand>1</SourceBand> <SourceProperties RasterXSize="5024" RasterYSize="5024" DataType="Byte" BlockXSize="512" BlockYSize="512" /> <SrcRect xOff="0" yOff="0" xSize="5024" ySize="5024" /> <DstRect xOff="30000" yOff="110000" xSi