0.0750000000
0.0000000000
0.0000000000
-0.0750000000
459700.3125000000
7829398.8375000004
