0.0750000000
0.0000000000
0.0000000000
-0.0750000000
456700.1625000000
7829398.8375000004
