0.0750000000
0.0000000000
0.0000000000
-0.0750000000
455700.1125000000
7830398.8875000002
