0.0750000000
0.0000000000
0.0000000000
-0.0750000000
468700.7625000000
7833399.0374999996
