0.0750000000
0.0000000000
0.0000000000
-0.0750000000
462700.4625000000
7833399.0374999996
