0.0750000000
0.0000000000
0.0000000000
-0.0750000000
461700.4125000000
7833399.0374999996
