0.0750000000
0.0000000000
0.0000000000
-0.0750000000
469700.8125000000
7834399.0875000004
