0.0750000000
0.0000000000
0.0000000000
-0.0750000000
458700.2625000000
7834399.0875000004
