0.0750000000
0.0000000000
0.0000000000
-0.0750000000
457700.2125000000
7834399.0875000004
