0.0750000000
0.0000000000
0.0000000000
-0.0750000000
470700.8625000000
7835399.1375000002
