0.0750000000
0.0000000000
0.0000000000
-0.0750000000
467700.7125000000
7835399.1375000002
