0.0750000000
0.0000000000
0.0000000000
-0.0750000000
471700.9125000000
7837399.2374999998
