0.0750000000
0.0000000000
0.0000000000
-0.0750000000
467700.7125000000
7837399.2374999998
