0.0750000000
0.0000000000
0.0000000000
-0.0750000000
466700.6625000000
7837399.2374999998
