0.0750000000
0.0000000000
0.0000000000
-0.0750000000
460700.3625000000
7837399.2374999998
