0.0750000000
0.0000000000
0.0000000000
-0.0750000000
461700.4125000000
7838399.2874999996
