0.0750000000
0.0000000000
0.0000000000
-0.0750000000
468700.7625000000
7840399.3875000002
