0.0750000000
0.0000000000
0.0000000000
-0.0750000000
463700.5125000000
7842399.4874999998
