0.2500000000
0.0000000000
0.0000000000
-0.2500000000
525000.0000000000
6780000.0000000000
