0.2500000000
0.0000000000
0.0000000000
-0.2500000000
525000.0000000000
6773999.7500000000
