0.250000
0.000000
-0.000000
-0.250000
334479.125000
1962499.875000
