0.250000
0.000000
-0.000000
-0.250000
331479.125000
1969499.875000
