0.250000
0.000000
-0.000000
-0.250000
330479.125000
1967499.875000
