0.250000
0.000000
-0.000000
-0.250000
324479.125000
1957499.875000
