0.250000
0.000000
-0.000000
-0.250000
318479.125000
1964499.875000
