0.250000
0.000000
-0.000000
-0.250000
317479.125000
2027499.875000
