0.250000
0.000000
-0.000000
-0.250000
316479.125000
1959499.875000
