0.250000
0.000000
-0.000000
-0.250000
316479.125000
1956499.875000
