0.250000
0.000000
-0.000000
-0.250000
314479.125000
1966499.875000
