0.250000
0.000000
-0.000000
-0.250000
313479.125000
1968499.875000
