0.250000
0.000000
-0.000000
-0.250000
310479.125000
2033499.875000
