0.250000
0.000000
-0.000000
-0.250000
309479.125000
2031499.875000
