0.250000
0.000000
-0.000000
-0.250000
309479.125000
1952499.875000
