0.250000
0.000000
-0.000000
-0.250000
307479.125000
1965499.875000
