0.250000
0.000000
-0.000000
-0.250000
305479.125000
1953499.875000
