0.250000
0.000000
-0.000000
-0.250000
303479.125000
1951499.875000
