0.250000
0.000000
-0.000000
-0.250000
302479.125000
1954499.875000
