0.250000
0.000000
-0.000000
-0.250000
301479.125000
2028499.875000
