0.250000
0.000000
-0.000000
-0.250000
300479.125000
1955499.875000
