0.250000
0.000000
-0.000000
-0.250000
299479.125000
2022499.875000
