0.250000
0.000000
-0.000000
-0.250000
298479.125000
2026499.875000
