0.250000
0.000000
-0.000000
-0.250000
297479.125000
2029499.875000
