0.250000
0.000000
-0.000000
-0.250000
296479.125000
2031499.875000
