0.250000
0.000000
-0.000000
-0.250000
294479.125000
2025499.875000
