0.250000
0.000000
-0.000000
-0.250000
293479.125000
2032499.875000
