0.250000
0.000000
-0.000000
-0.250000
292479.125000
2033499.875000
