0.250000
0.000000
-0.000000
-0.250000
291479.125000
2034499.875000
