0.250000
0.000000
-0.000000
-0.250000
290479.125000
2034499.875000
