0.250000
0.000000
-0.000000
-0.250000
288479.125000
2025499.875000
